BEGIN:VCALENDAR
VERSION:2.0
PRODID:-// - ECPv6.7.0//NONSGML v1.0//EN
CALSCALE:GREGORIAN
METHOD:PUBLISH
X-ORIGINAL-URL:http://parroquiasangonzalosevilla.es
X-WR-CALDESC:Eventos para 
REFRESH-INTERVAL;VALUE=DURATION:PT1H
X-Robots-Tag:noindex
X-PUBLISHED-TTL:PT1H
BEGIN:VTIMEZONE
TZID:Europe/Paris
BEGIN:DAYLIGHT
TZOFFSETFROM:+0100
TZOFFSETTO:+0200
TZNAME:CEST
DTSTART:20240331T010000
END:DAYLIGHT
BEGIN:STANDARD
TZOFFSETFROM:+0200
TZOFFSETTO:+0100
TZNAME:CET
DTSTART:20241027T010000
END:STANDARD
END:VTIMEZONE
BEGIN:VEVENT
DTSTART;TZID=Europe/Paris:20240301T080000
DTEND;TZID=Europe/Paris:20240301T170000
DTSTAMP:20260422T114938
CREATED:20240301T093938Z
LAST-MODIFIED:20240301T094121Z
UID:563-1709280000-1709312400@parroquiasangonzalosevilla.es
SUMMARY:24 HORAS PARA EL SEÑOR EN LA PARROQUIA SAN GONZALO\, EL 8 DE MARZO.
DESCRIPTION:El 8 de marzo participaremos en la iniciativa del Papa Francisco para la Cuaresma «24 horas para el Señor»\, que este año tiene como lema «Caminemos en una vida nueva» (Rm. 6\,4). \n\n\n\n En la Parroquia San Gonzalo invitamos a orar ante el Señor en las  dos horas en el que el Santísimo estará expuesto\,  de 17 a 19 h. En este tiempo invitamos también a recibir el sacramento de la Reconciliación. A las 19 h. celebraremos el Viacrucis\, como el resto de los viernes de Cuaresma\,  y a las 20 h. la Eucaristía. \n\n\n\n Invitamos a todos los grupos parroquiales a unirse a este tiempo de oración y reconciliación. \n\n\n\n\n\n\n\n\n\n\n\n\n\n\nComparte:
URL:http://parroquiasangonzalosevilla.es/eventos/24-horas-para-el-senor-en-la-parroquia-san-gonzalo/
END:VEVENT
END:VCALENDAR