BEGIN:VCALENDAR
VERSION:2.0
PRODID:-// - ECPv6.7.0//NONSGML v1.0//EN
CALSCALE:GREGORIAN
METHOD:PUBLISH
X-ORIGINAL-URL:http://parroquiasangonzalosevilla.es
X-WR-CALDESC:Eventos para 
REFRESH-INTERVAL;VALUE=DURATION:PT1H
X-Robots-Tag:noindex
X-PUBLISHED-TTL:PT1H
BEGIN:VTIMEZONE
TZID:Europe/Paris
BEGIN:DAYLIGHT
TZOFFSETFROM:+0100
TZOFFSETTO:+0200
TZNAME:CEST
DTSTART:20210328T010000
END:DAYLIGHT
BEGIN:STANDARD
TZOFFSETFROM:+0200
TZOFFSETTO:+0100
TZNAME:CET
DTSTART:20211031T010000
END:STANDARD
END:VTIMEZONE
BEGIN:VEVENT
DTSTART;TZID=Europe/Paris:20211130T083000
DTEND;TZID=Europe/Paris:20211130T083000
DTSTAMP:20260424T131043
CREATED:20211118T221637Z
LAST-MODIFIED:20211118T221648Z
UID:144-1638261000-1638261000@parroquiasangonzalosevilla.es
SUMMARY:Concierto Góspel Africano
DESCRIPTION:Se solicitará donativo al terminar su actuación \n\n\n\n\n\n\n\n\n\n\n\n\nComparte:
URL:http://parroquiasangonzalosevilla.es/eventos/concierto-gospel-africano/
END:VEVENT
END:VCALENDAR